BEGIN:VCALENDAR
VERSION:2.0
PRODID:-//Roadhoggs Leicester - ECPv5.15.0//NONSGML v1.0//EN
CALSCALE:GREGORIAN
METHOD:PUBLISH
X-WR-CALNAME:Roadhoggs Leicester
X-ORIGINAL-URL:https://roadhoggs.org.uk
X-WR-CALDESC:Events for Roadhoggs Leicester
BEGIN:VTIMEZONE
TZID:Europe/London
BEGIN:DAYLIGHT
TZOFFSETFROM:+0000
TZOFFSETTO:+0100
TZNAME:BST
DTSTART:20220327T010000
END:DAYLIGHT
BEGIN:STANDARD
TZOFFSETFROM:+0100
TZOFFSETTO:+0000
TZNAME:GMT
DTSTART:20221030T010000
END:STANDARD
END:VTIMEZONE
BEGIN:VEVENT
DTSTART;TZID=Europe/London:20220626T100000
DTEND;TZID=Europe/London:20220626T100000
DTSTAMP:20260425T014709
CREATED:20190322T222512Z
LAST-MODIFIED:20220208T173633Z
UID:2724-1656237600-1656237600@roadhoggs.org.uk
SUMMARY:Prestwold 10km
DESCRIPTION:The Prestwold 10km is the fourth race in the 2022 Leicestershire Road Running League (LRRL). \nA single lap\, flat and fast course around the private Prestwold Driving Centre airfield and quiet surrounding country lanes\, Prestwold is the perfect race if you’re ready to take the step up to 10K or eager for a quick time. \nThe course is well marshalled with water stations.
URL:https://roadhoggs.org.uk/event/prestwold-10km-2/
CATEGORIES:LRRL
END:VEVENT
END:VCALENDAR