BEGIN:VCALENDAR
VERSION:2.0
PRODID:-//Roadhoggs Leicester - ECPv5.15.0//NONSGML v1.0//EN
CALSCALE:GREGORIAN
METHOD:PUBLISH
X-WR-CALNAME:Roadhoggs Leicester
X-ORIGINAL-URL:https://roadhoggs.org.uk
X-WR-CALDESC:Events for Roadhoggs Leicester
BEGIN:VTIMEZONE
TZID:Europe/London
BEGIN:DAYLIGHT
TZOFFSETFROM:+0000
TZOFFSETTO:+0100
TZNAME:BST
DTSTART:20240331T010000
END:DAYLIGHT
BEGIN:STANDARD
TZOFFSETFROM:+0100
TZOFFSETTO:+0000
TZNAME:GMT
DTSTART:20241027T010000
END:STANDARD
END:VTIMEZONE
BEGIN:VEVENT
DTSTART;TZID=Europe/London:20240929T103000
DTEND;TZID=Europe/London:20240929T103000
DTSTAMP:20260425T014832
CREATED:20191103T174342Z
LAST-MODIFIED:20240205T235800Z
UID:3033-1727605800-1727605800@roadhoggs.org.uk
SUMMARY:Markfield 10km
DESCRIPTION:The Markfield 10km is the final race in the 2024 Leicestershire Road Running League (LRRL). \nRoute\n[sgpx gpx=”/wp-content/uploads/gpx/Markfield_10k.gpx”]
URL:https://roadhoggs.org.uk/event/markfield-10km/
CATEGORIES:LRRL
END:VEVENT
END:VCALENDAR